BEGIN:VCALENDAR
VERSION:2.0
PRODID:-//MCSD - ECPv6.15.20//NONSGML v1.0//EN
CALSCALE:GREGORIAN
METHOD:PUBLISH
X-WR-CALNAME:MCSD
X-ORIGINAL-URL:https://muslimculture.org
X-WR-CALDESC:Events for MCSD
REFRESH-INTERVAL;VALUE=DURATION:PT1H
X-Robots-Tag:noindex
X-PUBLISHED-TTL:PT1H
BEGIN:VTIMEZONE
TZID:America/Los_Angeles
BEGIN:DAYLIGHT
TZOFFSETFROM:-0800
TZOFFSETTO:-0700
TZNAME:PDT
DTSTART:20250309T100000
END:DAYLIGHT
BEGIN:STANDARD
TZOFFSETFROM:-0700
TZOFFSETTO:-0800
TZNAME:PST
DTSTART:20251102T090000
END:STANDARD
BEGIN:DAYLIGHT
TZOFFSETFROM:-0800
TZOFFSETTO:-0700
TZNAME:PDT
DTSTART:20260308T100000
END:DAYLIGHT
BEGIN:STANDARD
TZOFFSETFROM:-0700
TZOFFSETTO:-0800
TZNAME:PST
DTSTART:20261101T090000
END:STANDARD
BEGIN:DAYLIGHT
TZOFFSETFROM:-0800
TZOFFSETTO:-0700
TZNAME:PDT
DTSTART:20270314T100000
END:DAYLIGHT
BEGIN:STANDARD
TZOFFSETFROM:-0700
TZOFFSETTO:-0800
TZNAME:PST
DTSTART:20271107T090000
END:STANDARD
END:VTIMEZONE
BEGIN:VEVENT
DTSTART;TZID=America/Los_Angeles:20260530T140000
DTEND;TZID=America/Los_Angeles:20260530T170000
DTSTAMP:20260423T050131
CREATED:20260423T045242Z
LAST-MODIFIED:20260423T051625Z
UID:1361-1780149600-1780160400@muslimculture.org
SUMMARY:Annual Eid Festival
DESCRIPTION:Celebrate Eid in Dublin with culture\, connection\, and community. Enjoy food booths\, chai\, henna artists\, clothing vendors\, and entertainment for all ages. Everyone is welcome to join the festivities and share in the spirit of the occasion. \n  \nFor Vendor Sponsorship\, click here.
URL:https://muslimculture.org/event/annual-eid-festival/
LOCATION:Dublin Senior Center\, 7600 Amador Valley Blvd\, Dublin\, CA\, 94568\, United States
ATTACH;FMTTYPE=image/jpeg:https://muslimculture.org/wp-content/uploads/2026/04/DSC01267-scaled.jpg
END:VEVENT
END:VCALENDAR